BEGIN:VCALENDAR
VERSION:2.0
PRODID:-//Route 62 Motor Resort - ECPv6.15.20//NONSGML v1.0//EN
CALSCALE:GREGORIAN
METHOD:PUBLISH
X-ORIGINAL-URL:https://route62motorresort.com
X-WR-CALDESC:Events for Route 62 Motor Resort
REFRESH-INTERVAL;VALUE=DURATION:PT1H
X-Robots-Tag:noindex
X-PUBLISHED-TTL:PT1H
BEGIN:VTIMEZONE
TZID:America/Chicago
BEGIN:DAYLIGHT
TZOFFSETFROM:-0600
TZOFFSETTO:-0500
TZNAME:CDT
DTSTART:20240310T080000
END:DAYLIGHT
BEGIN:STANDARD
TZOFFSETFROM:-0500
TZOFFSETTO:-0600
TZNAME:CST
DTSTART:20241103T070000
END:STANDARD
BEGIN:DAYLIGHT
TZOFFSETFROM:-0600
TZOFFSETTO:-0500
TZNAME:CDT
DTSTART:20250309T080000
END:DAYLIGHT
BEGIN:STANDARD
TZOFFSETFROM:-0500
TZOFFSETTO:-0600
TZNAME:CST
DTSTART:20251102T070000
END:STANDARD
BEGIN:DAYLIGHT
TZOFFSETFROM:-0600
TZOFFSETTO:-0500
TZNAME:CDT
DTSTART:20260308T080000
END:DAYLIGHT
BEGIN:STANDARD
TZOFFSETFROM:-0500
TZOFFSETTO:-0600
TZNAME:CST
DTSTART:20261101T070000
END:STANDARD
END:VTIMEZONE
BEGIN:VEVENT
DTSTART;TZID=America/Chicago:20250422T080000
DTEND;TZID=America/Chicago:20250428T170000
DTSTAMP:20260422T200838
CREATED:20250205T211238Z
LAST-MODIFIED:20250206T002537Z
UID:5533-1745308800-1745859600@route62motorresort.com
SUMMARY:Spring Fling
DESCRIPTION:Five days of fun\, friends\, shopping and riding the beautiful Ozark mountains. Five days to enjoy LIFE!! Spring Fling Rally is something we look forward to every year\, when the community comes together and celebrate the finer things in life.
URL:https://route62motorresort.com/event/spring-fling/
CATEGORIES:Local Event
ATTACH;FMTTYPE=image/webp:https://route62motorresort.com/wp-content/uploads/2025/02/Spring-Fling.webp
END:VEVENT
END:VCALENDAR